BEGIN:VCALENDAR
VERSION:2.0
PRODID:-//www.newbergnaz.org//NONSGML kigkonsult.se iCalcreator 2.39.1//
CALSCALE:GREGORIAN
METHOD:PUBLISH
UID:46fcb78e-1194-4698-84fe-74a4f1bfb13b
X-WR-CALNAME:www.newbergnaz.org
X-WR-CALDESC:www.newbergnaz.org
X-WR-TIMEZONE:America/Los_Angeles
X-LIC-LOCATION:America/Los_Angeles
BEGIN:VEVENT
UID:7d41f10e-d8dc-461b-b4db-183fb000473f
DTSTAMP:20260421T083531Z
CLASS:PUBLIC
DTSTART;TZID=America/Los_Angeles:20260423T170000
DTEND;TZID=America/Los_Angeles:20260423T180000
SUMMARY:Young Adult Group
TRANSP:OPAQUE
BEGIN:VALARM
ACTION:DISPLAY
DESCRIPTION:Young Adult Group
TRIGGER:-PT15M
END:VALARM
END:VEVENT
END:VCALENDAR
